
BEGIN:VCALENDAR
VERSION:2.0
PRODID:-//Attac Bruxelles 2 - ECPv6.15.20//NONSGML v1.0//EN
CALSCALE:GREGORIAN
METHOD:PUBLISH
X-ORIGINAL-URL:https://bruxelles.attac.org
X-WR-CALDESC:Évènements pour Attac Bruxelles 2
REFRESH-INTERVAL;VALUE=DURATION:PT1H
X-Robots-Tag:noindex
X-PUBLISHED-TTL:PT1H
BEGIN:VTIMEZONE
TZID:Europe/Paris
BEGIN:DAYLIGHT
TZOFFSETFROM:+0100
TZOFFSETTO:+0200
TZNAME:CEST
DTSTART:20250330T010000
END:DAYLIGHT
BEGIN:STANDARD
TZOFFSETFROM:+0200
TZOFFSETTO:+0100
TZNAME:CET
DTSTART:20251026T010000
END:STANDARD
BEGIN:DAYLIGHT
TZOFFSETFROM:+0100
TZOFFSETTO:+0200
TZNAME:CEST
DTSTART:20260329T010000
END:DAYLIGHT
BEGIN:STANDARD
TZOFFSETFROM:+0200
TZOFFSETTO:+0100
TZNAME:CET
DTSTART:20261025T010000
END:STANDARD
BEGIN:DAYLIGHT
TZOFFSETFROM:+0100
TZOFFSETTO:+0200
TZNAME:CEST
DTSTART:20270328T010000
END:DAYLIGHT
BEGIN:STANDARD
TZOFFSETFROM:+0200
TZOFFSETTO:+0100
TZNAME:CET
DTSTART:20271031T010000
END:STANDARD
END:VTIMEZONE
BEGIN:VEVENT
DTSTART;TZID=Europe/Paris:20260509T193000
DTEND;TZID=Europe/Paris:20260509T213000
DTSTAMP:20260425T161914
CREATED:20251026T163353Z
LAST-MODIFIED:20251026T163353Z
UID:2415-1778355000-1778362200@bruxelles.attac.org
SUMMARY:Le désir de nouveautés – L’obsolescence au coeur du capitalisme (XVe-XXIe siècle)\, avec Jeanne Guien
DESCRIPTION:Ce 9 mai 2026\,\n(Attention\, c’est un samedi !)\nnous avons la chance de recevoir Jeanne Guien sur son ouvrage \nLe désir de nouveautés\nL’obsolescence au coeur du capitalisme (XVe-XXIe siècle)\n” C’est nouveau\, ça vient de sortir\, c’est la mode… ” Pourquoi ces discours font-ils vendre ? Comment expliquer qu’un produit mis récemment sur le marché paraisse plus désirable et plus fiable que les autres\, aussitôt déclassés et considérés comme vieux\, dépassés\, obsolètes ?\nAu gré de la diffusion du capitalisme depuis le XVIe siècle\, la nouveauté est devenue un étalon de valeur. Dans la publicité et la communication des entreprises\, elle est appliquée à tout et n’importe quoi\, n’importe comment : des voitures restent nouvelles un an\, des styles vestimentaires le redeviennent tous les vingt ans\, des objets jetables le sont pendant quelques minutes\, voire quelques secondes… Pourtant\, en dépit de leur obsession pour le sujet\, économistes et marketeurs peinent à définir la nouveauté et à justifier l’aura qu’ils lui prêtent. Ils sont incapables de mesurer le nombre de ” nouveaux produits ” commercialisés chaque année et constatent que la grande majorité de ces ” lancements ” échouent\, cette offre ne répondant à aucune demande. Les acteurs du marché n’en continuent pas moins à encourager et à encenser l’” innovation “.\nCet ouvrage raconte comment\, par leurs discours et leurs pratiques\, marketeurs\, publicitaires\, économistes\, mais aussi négociants\, managers\, politiques\, designers ou scientifiques ont construit la nouveauté et sa valeur\, sous des formes variées\, absurdes\, agressives. Du commerce colonial vantant les produits ” exotiques ” aux promesses de ” progrès ” et de ” modernité ” mécanique\, électrique ou numérique\, en passant par la ” mode “\, le ” style ” ou les produits jetables\, il s’agit toujours de prêter aux consommateurs\, et surtout aux consommatrices\, un désir incontrôlable de nouveautés\, afin de légitimer un modèle économique dévastateur : acheter\, jeter\, racheter. \n?INFOS PRATIQUES : \nDate : samedi 9 mai 2026\nHeure : 19h30\nLieu :La Fleur en papier doré – Rue des Alexiens 55\, 1000 Bruxelles\n(Le lieu dispose d’un bar qui sera ouvert avant\, pendant et après la Rencontre)\nInscription (préférable) : lesrencontres@pour.press (Mentionnez le nom\, le nombre de participants et le titre de la conférence)\nPrix : libre
URL:https://bruxelles.attac.org/event/le-desir-de-nouveautes-lobsolescence-au-coeur-du-capitalisme-xve-xxie-siecle-avec-jeanne-guien/
LOCATION:La Fleur en papier doré – Rue des Alexiens 55\, 1000 Bruxelles
ATTACH;FMTTYPE=image/jpeg:https://bruxelles.attac.org/wp-content/uploads/2025/10/site-web-17-scaled.jpg
END:VEVENT
END:VCALENDAR