
BEGIN:VCALENDAR
VERSION:2.0
PRODID:-//Attac Bruxelles 2 - ECPv6.15.20//NONSGML v1.0//EN
CALSCALE:GREGORIAN
METHOD:PUBLISH
X-ORIGINAL-URL:https://bruxelles.attac.org
X-WR-CALDESC:Évènements pour Attac Bruxelles 2
REFRESH-INTERVAL;VALUE=DURATION:PT1H
X-Robots-Tag:noindex
X-PUBLISHED-TTL:PT1H
BEGIN:VTIMEZONE
TZID:Europe/Paris
BEGIN:DAYLIGHT
TZOFFSETFROM:+0100
TZOFFSETTO:+0200
TZNAME:CEST
DTSTART:20250330T010000
END:DAYLIGHT
BEGIN:STANDARD
TZOFFSETFROM:+0200
TZOFFSETTO:+0100
TZNAME:CET
DTSTART:20251026T010000
END:STANDARD
BEGIN:DAYLIGHT
TZOFFSETFROM:+0100
TZOFFSETTO:+0200
TZNAME:CEST
DTSTART:20260329T010000
END:DAYLIGHT
BEGIN:STANDARD
TZOFFSETFROM:+0200
TZOFFSETTO:+0100
TZNAME:CET
DTSTART:20261025T010000
END:STANDARD
BEGIN:DAYLIGHT
TZOFFSETFROM:+0100
TZOFFSETTO:+0200
TZNAME:CEST
DTSTART:20270328T010000
END:DAYLIGHT
BEGIN:STANDARD
TZOFFSETFROM:+0200
TZOFFSETTO:+0100
TZNAME:CET
DTSTART:20271031T010000
END:STANDARD
END:VTIMEZONE
BEGIN:VEVENT
DTSTART;TZID=Europe/Paris:20260115T193000
DTEND;TZID=Europe/Paris:20260115T213000
DTSTAMP:20260425T191253
CREATED:20251019T102416Z
LAST-MODIFIED:20251019T102416Z
UID:2388-1768505400-1768512600@bruxelles.attac.org
SUMMARY:“On ne peut plus rien dire…” – Liberté d’expression : le grand détournement\, avec Thomas Hochmann
DESCRIPTION:Ce 15 janvier 2026\,\nnous avons la chance de recevoir Thomas Hochmann sur son ouvrage \n“On ne peut plus rien dire…”\nLiberté d’expression : le grand détournement \n” On ne peut plus rien dire… ” La complainte de celles et ceux qui dénoncent la ” censure ” s’étire à longueur de journée sur les plateaux télévisés. Il semblerait que la réaction se soit approprié la liberté d’expression pour mieux la dévoyer. Comment en est-on arrivé là ? Comment récupérer cette liberté fondamentale en démocratie ? Voilà l’enjeu de ce texte incisif. \n” On ne peut plus rien dire… ” La complainte de celles et ceux qui dénoncent la ” censure “\, à l’instar d’un Donald Trump\, s’étire à longueur de plateaux télévisés. Toute contradiction est dénoncée comme une agression\, la lutte contre le racisme est présentée comme une marque d’intolérance ” woke “. Par un incroyable retournement\, tout effort de protéger le débat démocratique est aujourd’hui brocardé comme une atteinte à ” liberté d’expression “. Pourtant\, la haine et le mensonge nuisent gravement à la délibération démocratique : les restrictions de l’expression publique\, loin d’être en contradiction avec la liberté d’expression\, lui sont consubstantielles.\nLe juriste Thomas Hochmann révèle la manière dont la réaction a accaparé la liberté d’expression pour mieux imposer ses manières de dire. Mais il montre également comment se réapproprier cette liberté fondamentale\, après avoir rappelé et défendu\, exemples à l’appui\, les lois qui interdisent les discours de haine et les campagnes de désinformation. Leur mise en œuvre constitue désormais une de nos dernières chances de repousser l’extrême droite. \n?INFOS PRATIQUES : \nDate : 15 janvier 2026\nHeure : 19h30\nLieu : à venir\nInscription (préférable) : lesrencontres@pour.press (Mentionnez le nom\, le nombre de participants et le titre de la conférence)\nPrix : libre
URL:https://bruxelles.attac.org/event/on-ne-peut-plus-rien-dire-liberte-dexpression-le-grand-detournement-avec-thomas-hochmann/
LOCATION:À venir
ATTACH;FMTTYPE=image/jpeg:https://bruxelles.attac.org/wp-content/uploads/2025/10/site-web-8-scaled.jpg
END:VEVENT
BEGIN:VEVENT
DTSTART;TZID=Europe/Paris:20260126T193000
DTEND;TZID=Europe/Paris:20260126T213000
DTSTAMP:20260425T191253
CREATED:20251019T102529Z
LAST-MODIFIED:20251019T102630Z
UID:2391-1769455800-1769463000@bruxelles.attac.org
SUMMARY:La civilisation judéo-chrétienne – Anatomie d’une imposture\, avec Sophie Bessis
DESCRIPTION:Ce 26 janvier 2026\,\nnous avons la chance de recevoir Sophie Bessis sur son ouvrage \nLa civilisation judéo-chrétienne\nAnatomie d’une imposture \nDepuis quarante ans\, le concept de « civilisation judéochrétienne » domine les discours politiques et médiatiques en Occident\, présenté comme le socle culturel de l’Europe et de l’Amérique du Nord. Mais que cache cette expression devenue une référence hégémonique ? \nRécupéré par des acteurs variés – États\, mouvements politiques ou nationalismes – ce concept est utilisé de toutes parts pour réécrire l’histoire\, servant en Europe à occulter deux millénaires de persécutions antisémites\, à nier l’apport de l’Orient dans son passé et à exclure l’islam de ses références culturelles. Le sionisme puis l’État d’Israël à partir de sa création ont eu besoin d’affirmer leur ancrage exclusif à l’Occident\, se proclamant aujourd’hui comme le « bastion avancé de la civilisation judéochrétienne » face à « l’ennemi arabo-musulman »\, tandis que les nationalismes arabes ont vu dans cette expression un instrument commode pour nier la dimension juive de l’histoire de leurs propres pays. \nSophie Bessis dévoile comment ce binôme\, loin d’être neutre\, est utilisé partout pour rendre impossibles des convergences culturelles et politiques qui pourraient être autant de chemins vers la paix. \n?INFOS PRATIQUES : \nDate : 26 janvier 2026\nHeure : 19h30\nLieu : À venir\nInscription (préférable) : lesrencontres@pour.press (Mentionnez le nom\, le nombre de participants et le titre de la conférence)\nPrix : libre
URL:https://bruxelles.attac.org/event/la-civilisation-judeo-chretienne-anatomie-dune-imposture-avec-sophie-bessis/
LOCATION:À venir
ATTACH;FMTTYPE=image/jpeg:https://bruxelles.attac.org/wp-content/uploads/2025/10/Site-web-10-scaled.jpg
END:VEVENT
BEGIN:VEVENT
DTSTART;TZID=Europe/Paris:20260129T193000
DTEND;TZID=Europe/Paris:20260129T213000
DTSTAMP:20260425T191253
CREATED:20251026T160223Z
LAST-MODIFIED:20251026T160223Z
UID:2395-1769715000-1769722200@bruxelles.attac.org
SUMMARY:Barbarie numérique. Une autre histoire du monde connecté\, avec Fabien Lebrun
DESCRIPTION:Ce 29 janvier 2026\,\nnous avons la chance de recevoir Fabien Lebrun sur son ouvrage \nBarbarie numérique.\nUne autre histoire du monde connecté\n\nUne enquête implacable sur la tragédie que vit le Congo\, cœur des industries numériques et objet de toutes les convoitises. \nÀ partir des années 1990\, l’explosion de la production de biens électroniques\, caractéristique du passage du capitalisme à son stade numérique\, déclenche une guerre des métaux technologiques au Congo (RDC) qui n’a fait que gagner en intensité. Cette enquête fouillée montre que la dématérialisation est bel et bien un mythe.\nElle se nourrit d’un extractivisme sans limites dans des régions\, comme celle des Grands Lacs en Afrique\, qui subissent depuis des siècles les ravages de la mondialisation : de la traite négrière à la terreur coloniale du roi belge Léopold II (pour le « caoutchouc rouge » nécessaire à l’industrie automobile) jusqu’aux minerais de sang actuels (dont le coltan\, essentiel aux smartphones\, et le cobalt\, pour la transition énergétique).\nLa civilisation de l’écran est synonyme d’une barbarie numérique qui se manifeste au Congo par : une économie militarisée et une criminalité institutionnalisée\, un pillage généralisé\, du travail forcé\, le viol comme arme de guerre\, la destruction des forêts et l’anéantissement de la biodiversité… Autant de catastrophes qui font du Congo l’une des plus grandes tragédies de l’histoire contemporaine\, le prix fort à payer pour un monde connecté. \n?INFOS PRATIQUES : \nDate : 29 janvier 2026\nHeure : 19h30\nLieu : à venir\nInscription (préférable) : lesrencontres@pour.press (Mentionnez le nom\, le nombre de participants et le titre de la conférence)\nPrix : libre
URL:https://bruxelles.attac.org/event/barbarie-numerique-une-autre-histoire-du-monde-connecte-avec-fabien-lebrun/
LOCATION:À venir
ATTACH;FMTTYPE=image/jpeg:https://bruxelles.attac.org/wp-content/uploads/2025/10/site-web-11-scaled.jpg
END:VEVENT
END:VCALENDAR