
BEGIN:VCALENDAR
VERSION:2.0
PRODID:-//Attac Bruxelles 2 - ECPv6.15.20//NONSGML v1.0//EN
CALSCALE:GREGORIAN
METHOD:PUBLISH
X-WR-CALNAME:Attac Bruxelles 2
X-ORIGINAL-URL:https://bruxelles.attac.org
X-WR-CALDESC:Évènements pour Attac Bruxelles 2
REFRESH-INTERVAL;VALUE=DURATION:PT1H
X-Robots-Tag:noindex
X-PUBLISHED-TTL:PT1H
BEGIN:VTIMEZONE
TZID:Europe/Paris
BEGIN:DAYLIGHT
TZOFFSETFROM:+0100
TZOFFSETTO:+0200
TZNAME:CEST
DTSTART:20240331T010000
END:DAYLIGHT
BEGIN:STANDARD
TZOFFSETFROM:+0200
TZOFFSETTO:+0100
TZNAME:CET
DTSTART:20241027T010000
END:STANDARD
BEGIN:DAYLIGHT
TZOFFSETFROM:+0100
TZOFFSETTO:+0200
TZNAME:CEST
DTSTART:20250330T010000
END:DAYLIGHT
BEGIN:STANDARD
TZOFFSETFROM:+0200
TZOFFSETTO:+0100
TZNAME:CET
DTSTART:20251026T010000
END:STANDARD
BEGIN:DAYLIGHT
TZOFFSETFROM:+0100
TZOFFSETTO:+0200
TZNAME:CEST
DTSTART:20260329T010000
END:DAYLIGHT
BEGIN:STANDARD
TZOFFSETFROM:+0200
TZOFFSETTO:+0100
TZNAME:CET
DTSTART:20261025T010000
END:STANDARD
END:VTIMEZONE
BEGIN:VEVENT
DTSTART;TZID=Europe/Paris:20251205T193000
DTEND;TZID=Europe/Paris:20251205T213000
DTSTAMP:20260425T204356
CREATED:20251019T100255Z
LAST-MODIFIED:20251019T100255Z
UID:2375-1764963000-1764970200@bruxelles.attac.org
SUMMARY:Gouverner les juges: Pour un pouvoir judiciaire pleinement démocratique\, avec Vincent Sizaire
DESCRIPTION:Ce 5 décembre 2025\,\nnous avons la chance de recevoir Vincent Sizaire sur son ouvrage \nGouverner les juges:\nPour un pouvoir judiciaire pleinement démocratique \n\n\nExpression apparue en 1921 sous la plume d’Édouard Lambert\, le « gouvernement des juges » consiste à laisser au judiciaire des décisions qui devraient relever du politique. Vincent Sizaire\, juge et enseignant chercheur en sciences juridiques\, propose la première synthèse sur ce mythe depuis 1921. Il démontre que la rhétorique du gouvernement des juges traduit une opposition réactionnaire à la (relative) émancipation du pouvoir juridictionnel par rapport au pouvoir exécutif et qu’elle passe sous silence les formes de dévoiement effectif du pouvoir juridictionnel comme instrument de restriction illégitime de la souveraineté populaire. Comment sortir alors de la crise ? En émancipant définitivement le pouvoir juridictionnel du pouvoir exécutif et en construisant un gouvernement démocratique de la Justice\, associant les citoyens à son administration.\n\n\n\n?INFOS PRATIQUES : \nDate : 5 décembre 2025\nHeure : 19h30\nLieu :La Fleur en papier doré – Rue des Alexiens 55\, 1000 Bruxelles\n(Le lieu dispose d’un bar qui sera ouvert avant\, pendant et après la Rencontre)\nInscription (préférable) : lesrencontres@pour.press (Mentionnez le nom\, le nombre de participants et le titre de la conférence)\nPrix : libre
URL:https://bruxelles.attac.org/event/gouverner-les-juges-pour-un-pouvoir-judiciaire-pleinement-democratique-avec-vincent-sizaire/
LOCATION:La Fleur en papier doré – Rue des Alexiens 55\, 1000 Bruxelles
ATTACH;FMTTYPE=image/jpeg:https://bruxelles.attac.org/wp-content/uploads/2025/10/site-web-4-scaled.jpg
END:VEVENT
BEGIN:VEVENT
DTSTART;TZID=Europe/Paris:20251212T193000
DTEND;TZID=Europe/Paris:20251212T213000
DTSTAMP:20260425T204356
CREATED:20251019T100421Z
LAST-MODIFIED:20251019T100421Z
UID:2378-1765567800-1765575000@bruxelles.attac.org
SUMMARY:Guide des intox sur notre système de santé\, avec André Grimaldi et Olivier Milleron
DESCRIPTION:Ce 12 décembre 2025\,\nnous avons la chance de recevoir André Grimaldi et Olivier Milleron sur son ouvrage \nGuide des intox sur notre système de santé \nPourquoi n’y a-t-il plus assez de médecins ? Le trou de la Sécu est-il un choix politique ?\nFinalement\, les 35 heures à l’hôpital\, bonne ou mauvaise décision ? Pourquoi les nouveaux médicaments coutent plus cher ? La crise des urgences\, quelles solutions ?\nAu fil d’une centaine de questions / réponses Olivier Milleron et André Grimaldi expliquent pourquoi notre système de santé\, envié et admiré à la fin du siècle dernier\, est au bord de l’effondrement. Et livrent des clés pour le défendre alors que les tenants de la « santé business » nous abreuvent de leurs intox.\nComprendre la catastrophe actuelle passe par l’analyse des décisions prises sans débat démocratique lors des dernières années\, présentées comme simplement techniques alors qu’elles sont éminemment politiques. Ce livre démontre que la santé n’est pas un marché\, que l’hôpital n’est pas une entreprise\, que le secteur privé n’est ni plus efficace ni moins couteux que le secteur public pour le contribuable et comment la médecine libérale sape notre système solidaire. Le sauver implique un combat citoyen : cet ouvrage nous en fournit les armes. \n?INFOS PRATIQUES : \nDate : 12 décembre 2025\nHeure : 19h30\nLieu : La Maison du Livre – Rue de Rome 28\, 1060 Saint-Gilles\nInscription (préférable) : lesrencontres@pour.press (Mentionnez le nom\, le nombre de participants et le titre de la conférence)\nPrix : libre
URL:https://bruxelles.attac.org/event/guide-des-intox-sur-notre-systeme-de-sante-avec-andre-grimaldi-et-olivier-milleron/
LOCATION:La Maison du Livre – Rue de Rome 28\, 1060 Saint-Gilles\, La Maison du Livre – Rue de Rome 28\, 1060 Saint-Gilles
ATTACH;FMTTYPE=image/jpeg:https://bruxelles.attac.org/wp-content/uploads/2025/10/site-web-5-scaled.jpg
END:VEVENT
BEGIN:VEVENT
DTSTART;TZID=Europe/Paris:20251217T193000
DTEND;TZID=Europe/Paris:20251217T213000
DTSTAMP:20260425T204356
CREATED:20251019T100558Z
LAST-MODIFIED:20251019T101444Z
UID:2381-1765999800-1766007000@bruxelles.attac.org
SUMMARY:Quand les travailleurs sabotaient\, avec Dominique Pinsolle
DESCRIPTION:Ce 17 décembre 2025\,\nnous avons la chance de recevoir Dominique Pinsolle sur son ouvrage \nQuand les travailleurs sabotaient \n“L’histoire du monde du travail\, dont les médias et le monde politique négligent\, méprisent et effacent la réalité historique et sociologique\, n’a pas fini de nous donner des leçons sur la culture de la résistance. \n« Quelle que soit la manière dont on qualifie la littérature\, les discours\, les représentations et les pratiques liés au sabotage en France et aux États-Unis jusqu’à la guerre\, il n’en demeure pas moins que le phénomène n’a aucun équivalent ailleurs dans le monde\, ni dans sa nature\, ni dans son ampleur. Toutes les forces syndicalistes révolutionnaires ont été réceptives au concept\, mais seuls les militants français et les Wobblies états­uniens ont produit une doctrine originale du sabotage qui a rencontré un écho international – comme en témoigne la diffusion internationale du terme français et du symbole du chat noir. En outre\, malgré leurs particularités respectives\, les deux formes de cette tactique qui se développent de part et d’autre de l’Atlantique sont liées et peuvent donc être appréhendées comme les deux étapes d’une même histoire. » \n\n\n\nL’urgence climatique et sociale a remis au goût du jour l’activisme radical\, dont le recours au sabotage. Loin de se réduire à une dégradation matérielle\, cette pratique a soulevé d’immenses espoirs dans les rangs syndicalistes révolutionnaires de la « Belle Époque »\, au point d’être théorisée et mise en œuvre de manière collective. De la Confédération générale du travail (CGT) en France aux Industrial Workers of the World (IWW) aux États-­Unis\, le sabotage apparaissait alors comme une tactique légitime\, imparable\, et contre laquelle patrons et gouvernants ne pouvaient rien. Cette expérience syndicale éclaire la portée et les limites d’un moyen d’action marginalisé\, objet de nombreux fantasmes.” \nAgone *\nLien vers la page du livre : https://agone.org/livre/quand-les-travailleurs-sabotaient/ \n  \n\n\n\n?INFOS PRATIQUES : \nDate : 17 décembre 2025\nHeure : 19h30\nLieu : À venir\nInscription (préférable) : lesrencontres@pour.press (Mentionnez le nom\, le nombre de participants et le titre de la conférence)\nPrix : libre \n\n* Issues d’une revue du même nom\, née à Marseille en 1990\, les éditions Agone se sont construites sur une ligne éditoriale soucieuse des luttes de notre présent et soumise aux exigences du savoir. Au moment où le marché du livre se caractérise par un emballement productiviste qui pousse les éditeurs\, pour imposer leurs marques\, à publier toujours davantage d’ouvrages de moins en moins maîtrisés et dont la durée de vie est toujours plus courte\, nous avons opté pour la lenteur d’une politique de fonds. \nAussi nous démarquons-nous de la logique du marketing\, qui prétend financer la création sur la base des nécessités du compromis : notre pari fut de ne jamais publier un livre pour le seul motif de sa rentabilité\, de ne pas choisir un auteur sur le seul critère de sa notoriété et de ne pas traiter un sujet en vertu de sa seule actualité. \nCe projet éditorial répond à un projet politique : proposer des livres qui fournissent au plus grand nombre des outils pour comprendre le monde dans lequel nous vivons.
URL:https://bruxelles.attac.org/event/quand-les-travailleurs-sabotaient-avec-dominique-pinsolle/
LOCATION:Lieu à venir
ATTACH;FMTTYPE=image/jpeg:https://bruxelles.attac.org/wp-content/uploads/2025/10/site-web-6.jpg
END:VEVENT
BEGIN:VEVENT
DTSTART;TZID=Europe/Paris:20251218T200000
DTEND;TZID=Europe/Paris:20251218T220000
DTSTAMP:20260425T204356
CREATED:20251019T101739Z
LAST-MODIFIED:20251019T101739Z
UID:2385-1766088000-1766095200@bruxelles.attac.org
SUMMARY:La gauche peut-elle combattre le néolibéralisme ?\, avec David Cayla
DESCRIPTION:ATTENTION\nLa Clarencière est un théâtre qui se tient dans une maison privée. Pour cette raison\, il y a une ouverture des portes à 19h45* et une fermeture des portes à 20h15. \nVous pouvez vous inscrire par mail (voir ci-dessous) mais aussi sur le site de la Clarencière. Sur ce dernier\, il vous est possible de réserver votre siège.\n*Le théâtre est dans une rue pleine de cafés qui vous permettront de patienter jusqu’à l’ouverture des portes \nCe 18 décembre 2025\, 20h\nnous avons la chance de recevoir David Cayla sur son ouvrage \nLa gauche peut-elle combattre le néolibéralisme ? \nCes dernières années\, la gauche a semblé impuissante à répondre à la régression sociale et à imposer un nouvel imaginaire de progrès. Face au néolibéralisme\, elle s’est retrouvée piégée par deux postures mortifères. La gauche d’accompagnement\, incarnée par la présidence de François Hollande\, renonce à améliorer les conditions de vie des plus modestes\, distribue des subventions aux entreprises et dégrade les services publics au nom de la compétitivité. La gauche de revendication\, incarnée par Jean-Luc Mélenchon depuis la présidentielle de 2017\, promet de renverser le « système » en présentant une radicalité qui ne parvient pas à convaincre et se fait dépasser dans les suffrages par l’extrême droite. \nCet ouvrage entend répondre à deux objectifs. Le premier est de montrer les failles et les faiblesses du moule néolibéral auquel la présidence Macron et la gauche d’accompagnement prétendent se conformer. \nLe second objectif est de proposer une analyse critique des propositions issues de la gauche de revendication en montrant que les discours et les postures qu’elle défend sont souvent contradictoires et ne peuvent servir de socle pour gouverner. \nCe livre défend une gauche à la radicalité renouvelée qui soit capable de proposer un projet permettant d’agir concrètement en faveur des classes populaires et de reconstruire un État social. \n?INFOS PRATIQUES : \nDate : 18 décembre 2025\nHeure : 20h\nOuverture des portes à 19h45 – Fermeture des portes à 20h15\nLieu :Théâtre littéraire de La Clarencière – Rue du Belvédère 20\, 1050 Ixelles\nInscription (préférable) : lesrencontres@pour.press (Mentionnez le nom\, le nombre de participants et le titre de la conférence)\nPrix : libre
URL:https://bruxelles.attac.org/event/la-gauche-peut-elle-combattre-le-neoliberalisme-avec-david-cayla/
LOCATION:Théâtre littéraire de La Clarencière – Rue du Belvédère 20\, 1050 Ixelles
ATTACH;FMTTYPE=image/jpeg:https://bruxelles.attac.org/wp-content/uploads/2025/10/Site-web-7-scaled.jpg
END:VEVENT
END:VCALENDAR