
BEGIN:VCALENDAR
VERSION:2.0
PRODID:-//Attac Bruxelles 2 - ECPv6.15.20//NONSGML v1.0//EN
CALSCALE:GREGORIAN
METHOD:PUBLISH
X-WR-CALNAME:Attac Bruxelles 2
X-ORIGINAL-URL:https://bruxelles.attac.org
X-WR-CALDESC:Évènements pour Attac Bruxelles 2
REFRESH-INTERVAL;VALUE=DURATION:PT1H
X-Robots-Tag:noindex
X-PUBLISHED-TTL:PT1H
BEGIN:VTIMEZONE
TZID:Europe/Paris
BEGIN:DAYLIGHT
TZOFFSETFROM:+0100
TZOFFSETTO:+0200
TZNAME:CEST
DTSTART:20240331T010000
END:DAYLIGHT
BEGIN:STANDARD
TZOFFSETFROM:+0200
TZOFFSETTO:+0100
TZNAME:CET
DTSTART:20241027T010000
END:STANDARD
BEGIN:DAYLIGHT
TZOFFSETFROM:+0100
TZOFFSETTO:+0200
TZNAME:CEST
DTSTART:20250330T010000
END:DAYLIGHT
BEGIN:STANDARD
TZOFFSETFROM:+0200
TZOFFSETTO:+0100
TZNAME:CET
DTSTART:20251026T010000
END:STANDARD
BEGIN:DAYLIGHT
TZOFFSETFROM:+0100
TZOFFSETTO:+0200
TZNAME:CEST
DTSTART:20260329T010000
END:DAYLIGHT
BEGIN:STANDARD
TZOFFSETFROM:+0200
TZOFFSETTO:+0100
TZNAME:CET
DTSTART:20261025T010000
END:STANDARD
END:VTIMEZONE
BEGIN:VEVENT
DTSTART;TZID=Europe/Paris:20251107T193000
DTEND;TZID=Europe/Paris:20251107T213000
DTSTAMP:20260425T221842
CREATED:20251019T094811Z
LAST-MODIFIED:20251019T094811Z
UID:2365-1762543800-1762551000@bruxelles.attac.org
SUMMARY:Saturation – Un monde où il ne manque rien\, sinon l’essentiel\, avec Renaud Hétier
DESCRIPTION:Ce 7 novembre 2025\,\nnous avons la chance de recevoir Renaud Hétier sur son ouvrage \nSaturation\nUn monde où il ne manque rien\, sinon l’essentiel \n\n\n\n\n\n\n\n\n\nTrop de bruit\, trop de sel\, de sucre\, de graisse\, trop d’activités\, trop de sollicitations\, trop d’écrans\, trop de tout : nous sommes de plus en plus saturés. De surcroît\, nous débordons sur le monde\, que nous occupons de façon toujours plus intense. Pour accentuer ce phénomène\, nous nous engageons dans des formes d’hypercommunication et d’hyperprésence qui nous accaparent. Ce « trop » débouche finalement sur une forme de vacuité\, quand on découvre que\, bien que comblé\, on passe à côté de l’essentiel. Tout est fait pour que l’expérience du vide – qui n’est pas celle de la vacuité – soit évitée\, et c’est pourtant de cette expérience que peut venir le salut. Non pas un vide total\, mais un vide qui\, ne serait-ce que par alternance\, ouvre la possibilité de s’apaiser\, de penser\, d’imaginer\, de créer. \n?INFOS PRATIQUES : \nDate : 7 novembre 2025\nHeure : 19h30\nLieu :La Maison du Livre – Rue de Rome 28\, 1060 Saint-Gilles\nInscription (préférable) : lesrencontres@pour.press (Mentionnez le nom\, le nombre de participants et le titre de la conférence)\nPrix : libre
URL:https://bruxelles.attac.org/event/saturation-un-monde-ou-il-ne-manque-rien-sinon-lessentiel-avec-renaud-hetier/
LOCATION:La Maison du Livre – Rue de Rome 28\, 1060 Saint-Gilles\, La Maison du Livre – Rue de Rome 28\, 1060 Saint-Gilles
ATTACH;FMTTYPE=image/jpeg:https://bruxelles.attac.org/wp-content/uploads/2025/10/site-web-1-scaled.jpg
END:VEVENT
BEGIN:VEVENT
DTSTART;TZID=Europe/Paris:20251120T193000
DTEND;TZID=Europe/Paris:20251120T213000
DTSTAMP:20260425T221842
CREATED:20251019T095040Z
LAST-MODIFIED:20251019T095040Z
UID:2368-1763667000-1763674200@bruxelles.attac.org
SUMMARY:À la fin du monde il fera beau : Essai sur l’inaction climatique\, avec Florian Massip et Gabriel Perez
DESCRIPTION:Ce 20 novembre 2025\,\nnous avons la chance de recevoir Florian Massip et Gabriel Perez sur son ouvrage \nÀ la fin du monde il fera beau : Essai sur l’inaction climatique \nUn livre qui affirme la nécessité d’inventer un nouvel imaginaire politique capable de faire surgir une « génération climatique ». \nÀ défaut d’une mobilisation générale contre les dérèglements climatiques\, c’est bien le mot d’ordre du néolibéralisme mondial qui s’impose désormais : celui de l’adaptation. Devant cet avenir apocalyptique surgit l’énigme de l’inaction climatique : pourquoi ne se passe-t-il rien\, ou si peu\, au regard de la catastrophe annoncée ? \nPour comprendre l’origine de nos impasses démocratiques\, les auteurs interrogent le rôle des révolutions silencieuses dans l’organisation du travail\, ainsi que la domination d’Hollywood dans l’imaginaire politique mondial. Apparaît alors toute la dimension idéologique du néolibéralisme\, pour lequel les dérèglements climatiques n’annoncent pas un effondrement\, mais bien une opportunité historique. \nDénonçant ces partis pris idéologiques\, jusque dans la conception du vivant\, les auteurs plaident pour un renouveau de l’imaginaire politique\, avec l’espoir que naisse enfin une véritable génération climatique. \n?INFOS PRATIQUES : \nDate : 20 novembre 2025\nHeure : 19h30\nLieu :La Fleur en papier doré – Rue des Alexiens 55\, 1000 Bruxelles\n(Le lieu dispose d’un bar qui sera ouvert avant\, pendant et après la Rencontre)\nInscription (préférable) : lesrencontres@pour.press (Mentionnez le nom\, le nombre de participants et le titre de la conférence)\nPrix : libre
URL:https://bruxelles.attac.org/event/a-la-fin-du-monde-il-fera-beau-essai-sur-linaction-climatique-avec-florian-massip-et-gabriel-perez/
LOCATION:La Fleur en papier doré – Rue des Alexiens 55\, 1000 Bruxelles
ATTACH;FMTTYPE=image/jpeg:https://bruxelles.attac.org/wp-content/uploads/2025/10/site-web-2-scaled.jpg
END:VEVENT
BEGIN:VEVENT
DTSTART;TZID=Europe/Paris:20251127T200000
DTEND;TZID=Europe/Paris:20251127T220000
DTSTAMP:20260425T221842
CREATED:20251019T100014Z
LAST-MODIFIED:20251019T100014Z
UID:2372-1764273600-1764280800@bruxelles.attac.org
SUMMARY:Autonomes et solidaires pour le vivant. S’organiser sans l’autorité de l’État\, avec Juliette Duquesne
DESCRIPTION:ATTENTION\nLa Clarencière est un théâtre qui se tient dans une maison privée. Pour cette raison\, il y a une ouverture des portes à 19h45* et une fermeture des portes à 20h15. \nVous pouvez vous inscrire par mail (voir ci-dessous) mais aussi sur le site de la Clarencière. Sur ce dernier\, il vous est possible de réserver votre siège.\n*Le théâtre est dans une rue pleine de cafés qui vous permettront de patienter jusqu’à l’ouverture des portes \nCe 27 novembre 2025\, à 20h\nnous avons la chance de recevoir Juliette Duquesne sur son ouvrage \nAutonomes et solidaires pour le vivant.\nS’organiser sans l’autorité de l’État \nParmi ceux qui souhaitent préserver le vivant\, une divergence n’est pas toujours bien formalisée : notre rapport à l’État. Certains prônent la planification\, alors que pour d’autres\, l’État fait structurellement partie du problème. L’enjeu : construire un quotidien autour des gestes essentiels tels que se nourrir ou se loger\, ensemble\, sans l’autorité de l’État. \nEn France\, les initiatives ne manquent pas : habitats partagés\, coopératives\, ZAD\, associations\, communes… Elles expérimentent d’autres manières de faire vivre la démocratie. Dans le monde\, dans des régions comme au Chiapas au Mexique\, les zapatistes bâtissent leur autonomie depuis plus de 20 ans. \nSans les idéaliser\, ces collectifs montrent qu’il est possible d’habiter un lieu et d’en prendre soin avec davantage de solidarité de façon plus autonome et non autarcique. \nJuliette Duquesne a interrogé plus d’une centaine de personnes. En entremêlant cas concrets et réflexions théoriques\, ce livre permet d’ouvrir nos imaginaires à différentes échelles et de relier les expériences actuelles à des courants historiques tels que l’anarchisme. \n?INFOS PRATIQUES : \nDate : 27 novembre 2025\nHeure : 20h\nOuverture des portes à 19h45 – Fermeture des portes à 20h15\nLieu :Théâtre littéraire de La Clarencière – Rue du Belvédère 20\, 1050 Ixelles\nInscription (préférable) : lesrencontres@pour.press (Mentionnez le nom\, le nombre de participants et le titre de la conférence)\nPrix : libre
URL:https://bruxelles.attac.org/event/autonomes-et-solidaires-pour-le-vivant-sorganiser-sans-lautorite-de-letat-avec-juliette-duquesne/
LOCATION:Théâtre littéraire de La Clarencière – Rue du Belvédère 20\, 1050 Ixelles
ATTACH;FMTTYPE=image/jpeg:https://bruxelles.attac.org/wp-content/uploads/2025/10/site-web-3-scaled.jpg
END:VEVENT
END:VCALENDAR