
BEGIN:VCALENDAR
VERSION:2.0
PRODID:-//Attac Bruxelles 2 - ECPv6.15.20//NONSGML v1.0//EN
CALSCALE:GREGORIAN
METHOD:PUBLISH
X-WR-CALNAME:Attac Bruxelles 2
X-ORIGINAL-URL:https://bruxelles.attac.org
X-WR-CALDESC:Évènements pour Attac Bruxelles 2
REFRESH-INTERVAL;VALUE=DURATION:PT1H
X-Robots-Tag:noindex
X-PUBLISHED-TTL:PT1H
BEGIN:VTIMEZONE
TZID:Europe/Paris
BEGIN:DAYLIGHT
TZOFFSETFROM:+0100
TZOFFSETTO:+0200
TZNAME:CEST
DTSTART:20240331T010000
END:DAYLIGHT
BEGIN:STANDARD
TZOFFSETFROM:+0200
TZOFFSETTO:+0100
TZNAME:CET
DTSTART:20241027T010000
END:STANDARD
BEGIN:DAYLIGHT
TZOFFSETFROM:+0100
TZOFFSETTO:+0200
TZNAME:CEST
DTSTART:20250330T010000
END:DAYLIGHT
BEGIN:STANDARD
TZOFFSETFROM:+0200
TZOFFSETTO:+0100
TZNAME:CET
DTSTART:20251026T010000
END:STANDARD
BEGIN:DAYLIGHT
TZOFFSETFROM:+0100
TZOFFSETTO:+0200
TZNAME:CEST
DTSTART:20260329T010000
END:DAYLIGHT
BEGIN:STANDARD
TZOFFSETFROM:+0200
TZOFFSETTO:+0100
TZNAME:CET
DTSTART:20261025T010000
END:STANDARD
END:VTIMEZONE
BEGIN:VEVENT
DTSTART;TZID=Europe/Paris:20251022T193000
DTEND;TZID=Europe/Paris:20251022T213000
DTSTAMP:20260426T011833
CREATED:20251015T105302Z
LAST-MODIFIED:20251015T124812Z
UID:2325-1761161400-1761168600@bruxelles.attac.org
SUMMARY:Dé-Civilisation. Les nouvelles logiques de l’emprise \, avec Roland Gori
DESCRIPTION:“De quoi la « dé-civilisation » est-elle le nom ? Pour Roland Gori\, cela ne fait aucun doute : la dé-civilisation n’est pas le fait de « sauvageons »\, de « barbares » héritiers d’une civilisation des « enfants rois » ou de « banlieusards » violents par nature ou par traditions émeutières. Aujourd’hui\, la brutalisation des rapports sociaux et l’extrême violence des agressions ordinaires doivent être appréhendées sous l’angle d’une société qui sacrifie la culture du dialogue et empêche les processus de penser au profit d’une civilisation des mœurs. L’Autre n’est plus celui dont on attend la reconnaissance symbolique mais le partenaire d’un jeu de guerres sociales au sein duquel le sujet mesure sa force. Face à cet état de fait\, l’heure est venue d’adopter une lecture critique des fonctions du langage et de replacer la puissance de l’imaginaire des langues au cœur de l’invention démocratique. Aujourd’hui la fonction critique du langage se trouve dégradée par le ruissellement des fake news\, la propagande de masse des agitateurs politiques\, les services de com’ des industries du vide\, l’infobésité virale des réseaux sociaux… Ces perversions politiques du langage font prévaloir la force\, le cynisme et la jouissance du néant sur le désir de vivre et d’aimer. Il est désormais urgent d’apprendre à nous défaire de leurs emprises sociales et psychologiques en réinventant des conditions sociales et culturelles qui permettent à un peuple de penser et de partager le sensible.” \n?INFOS PRATIQUES : \nDate : 22 octobre 2025\nHeure : 19h30\nLieu :La Maison du Livre – Rue de Rome 28\, 1060 Saint-Gilles\nInscription (préférable) : lesrencontres@pour.press (Mentionnez le nom\, le nombre de participants et le titre de la conférence)\nPrix : libre (conseillé 2€)
URL:https://bruxelles.attac.org/event/de-civilisation-les-nouvelles-logiques-de-lemprise-avec-roland-gori/
LOCATION:La Maison du Livre – Rue de Rome 28\, 1060 Saint-Gilles\, La Maison du Livre – Rue de Rome 28\, 1060 Saint-Gilles
ATTACH;FMTTYPE=image/jpeg:https://bruxelles.attac.org/wp-content/uploads/2025/10/site-web-3-1024x571-1.jpg
END:VEVENT
BEGIN:VEVENT
DTSTART;TZID=Europe/Paris:20251030T200000
DTEND;TZID=Europe/Paris:20251030T213000
DTSTAMP:20260426T011833
CREATED:20251019T094601Z
LAST-MODIFIED:20251019T094601Z
UID:2361-1761854400-1761859800@bruxelles.attac.org
SUMMARY:Pourquoi sommes-nous si mal représentés ? Le réveil citoyen\, avec Roger Sue
DESCRIPTION:ATTENTION\nLa Clarencière est un théâtre qui se tient dans une maison privée. Pour cette raison\, il y a une ouverture des portes à 19h45* et une fermeture des portes à 20h15. \nVous pouvez vous inscrire par mail (voir ci-dessous) mais aussi sur le site de la Clarencière. Sur ce dernier\, il vous est possible de réserver votre siège.\n*Le théâtre est dans une rue pleine de cafés qui vous permettront de patienter jusqu’à l’ouverture des portes \nCe 30 octobre 2025\, à 20h\nnous avons la chance de recevoir Roger Sue sur son ouvrage \nPourquoi sommes-nous si mal représentés ?\nLe réveil citoyen \nComment expliquer la fracture entre la société et ses représentants ? \nRépondre à cette question est capital alors que le déficit démocratique concourt à la montée de l’extrême-droite. \nLa fracture entre la société et ses représentants met en péril la démocratie. Au-delà de la seule politique\, les grandes institutions comme le travail ou l’éducation\, piliers de la République\, n’assurent plus la cohésion sociale. D’un côté\, une forte dynamique de la société civile dans tous les domaines : des mouvements citoyens en passant par les réseaux et les associations\, le lien social se veut plus égalitaire. De l’autre\, les institutions politiques n’ont guère évolué depuis 1958. \nLoin de donner une réponse à cette nouvelle expression de la société civile\, la politique s’est au contraire rétractée sur des positions autoritaires. Ainsi\, une société plus horizontale fait face à une représentation politique toujours plus verticale. L’incompréhension qui en résulte\, ouvre la voie à l’extrême droite qui se veut plus démocrate que les démocrates et se drape de républicanisme. \nCette crise nous impose de revenir aux fondamentaux de la République et du contrat social. Et rappeler que ce contrat n’est pas réductible à un contrat politique. Il suppose\, par temps de désertion électorale\, l’exercice d’une citoyenneté active pour retrouver le «bon sens» de la démocratie qui procède d’abord de citoyens associés avant de s’articuler à la représentation politique. \n?INFOS PRATIQUES : \nDate : 30 octobre 2025\nHeure : 20h\nOuverture des portes à 19h45 – Fermeture des portes à 20h15\nLieu : Théâtre littéraire de La Clarencière – Rue du Belvédère 20\, 1050 Ixelles\nInscription (préférable) : lesrencontres@pour.press (Mentionnez le nom\, le nombre de participants et le titre de la conférence)\nPrix : libre
URL:https://bruxelles.attac.org/event/pourquoi-sommes-nous-si-mal-representes-le-reveil-citoyen-avec-roger-sue/
LOCATION:Théâtre littéraire de La Clarencière – Rue du Belvédère 20\, 1050 Ixelles
ATTACH;FMTTYPE=image/jpeg:https://bruxelles.attac.org/wp-content/uploads/2025/10/site-web-scaled.jpg
END:VEVENT
END:VCALENDAR