
BEGIN:VCALENDAR
VERSION:2.0
PRODID:-//Attac Bruxelles 2 - ECPv6.15.20//NONSGML v1.0//EN
CALSCALE:GREGORIAN
METHOD:PUBLISH
X-ORIGINAL-URL:https://bruxelles.attac.org
X-WR-CALDESC:Évènements pour Attac Bruxelles 2
REFRESH-INTERVAL;VALUE=DURATION:PT1H
X-Robots-Tag:noindex
X-PUBLISHED-TTL:PT1H
BEGIN:VTIMEZONE
TZID:Europe/Paris
BEGIN:DAYLIGHT
TZOFFSETFROM:+0100
TZOFFSETTO:+0200
TZNAME:CEST
DTSTART:20250330T010000
END:DAYLIGHT
BEGIN:STANDARD
TZOFFSETFROM:+0200
TZOFFSETTO:+0100
TZNAME:CET
DTSTART:20251026T010000
END:STANDARD
BEGIN:DAYLIGHT
TZOFFSETFROM:+0100
TZOFFSETTO:+0200
TZNAME:CEST
DTSTART:20260329T010000
END:DAYLIGHT
BEGIN:STANDARD
TZOFFSETFROM:+0200
TZOFFSETTO:+0100
TZNAME:CET
DTSTART:20261025T010000
END:STANDARD
BEGIN:DAYLIGHT
TZOFFSETFROM:+0100
TZOFFSETTO:+0200
TZNAME:CEST
DTSTART:20270328T010000
END:DAYLIGHT
BEGIN:STANDARD
TZOFFSETFROM:+0200
TZOFFSETTO:+0100
TZNAME:CET
DTSTART:20271031T010000
END:STANDARD
END:VTIMEZONE
BEGIN:VEVENT
DTSTART;TZID=Europe/Paris:20260226T200000
DTEND;TZID=Europe/Paris:20260226T220000
DTSTAMP:20260425T175005
CREATED:20251026T160955Z
LAST-MODIFIED:20251026T160955Z
UID:2406-1772136000-1772143200@bruxelles.attac.org
SUMMARY:Classé cancérogène – Enquête sur un processus entravé\, avec Valentin Thomas
DESCRIPTION:ATTENTION\nLa Clarencière est un théâtre qui se tient dans une maison privée. Pour cette raison\, il y a une ouverture des portes à 19h45* et une fermeture des portes à 20h15. \nVous pouvez vous inscrire par mail (voir ci-dessous) mais aussi sur le site de la Clarencière. Sur ce dernier\, il vous est possible de réserver votre siège.\n*Le théâtre est dans une rue pleine de cafés qui vous permettront de patienter jusqu’à l’ouverture des portes \nCe 26 février 2026\, 20h\nnous avons la chance de recevoir Valentin Thomas sur son ouvrage \nClassé cancérogène\nEnquête sur un processus entravé\nCe livre montre comment les groupes d’experts qui travaillent à établir des preuves de cancérogénicité sont entravés dans leur action. \nEn 2025\, des dizaines de milliers de substances de synthèse sont utilisées dans l’Union européenne. Il y a parmi elles des composés chimiques auxquels les populations sont exposées chaque jour. Très peu d’entre eux ont fait l’objet d’investigation poussée sur leur caractère cancérogène : en matière d’usage et de vente de ces produits\, « innocent jusqu’à preuve du contraire » est le principe moteur des politiques sanitaires.\nDédié à la recherche\, le Centre international de recherche sur le cancer (CIRC) travaille à établir des preuves de cancérogénicité. Cet organisme n’a pas de pouvoir politique formel\, mais lorsqu’il classe un composé comme « cancérogène »\, la légitimité scientifique qu’il a accumulée oblige a minima d’autres institutions à travers le monde à considérer le problème à leur tour. Comme le montre cette enquête conduite pendant plusieurs années\, ces groupes d’experts sont entravés dans leur action : ils ne peuvent structurellement évaluer la quantité de substances en circulation ; leurs méthodes d’analyse occultent des pans entiers d’agents toxiques ; ils sont pris dans des rapports de force entre acteurs scientifiques\, politiques et économiques qui entretiennent des controverses sans fin. Comment prévenir le cancer sans avoir les moyens d’en identifier les causes ? \n?INFOS PRATIQUES : \nDate : 26 février 2026\nHeure : 20h\nOuverture des portes à 19h45 – Fermeture des portes à 20h15\nLieu : Théâtre littéraire de La Clarencière – Rue du Belvédère 20\, 1050 Ixelles\nInscription (préférable) : lesrencontres@pour.press (Mentionnez le nom\, le nombre de participants et le titre de la conférence)\nPrix : libre
URL:https://bruxelles.attac.org/event/classe-cancerogene-enquete-sur-un-processus-entrave-avec-valentin-thomas/
LOCATION:Théâtre littéraire de La Clarencière – Rue du Belvédère 20\, 1050 Ixelles
ATTACH;FMTTYPE=image/jpeg:https://bruxelles.attac.org/wp-content/uploads/2025/10/site-web-14-scaled.jpg
END:VEVENT
BEGIN:VEVENT
DTSTART;TZID=Europe/Paris:20260226T200000
DTEND;TZID=Europe/Paris:20260226T220000
DTSTAMP:20260425T175005
CREATED:20251106T132332Z
LAST-MODIFIED:20251106T132332Z
UID:2626-1772136000-1772143200@bruxelles.attac.org
SUMMARY:Classé cancérogène – Enquête sur un processus entravé\, avec Valentin Thomas
DESCRIPTION:ATTENTION\nLa Clarencière est un théâtre qui se tient dans une maison privée. Pour cette raison\, il y a une ouverture des portes à 19h45* et une fermeture des portes à 20h15. \nVous pouvez vous inscrire par mail (voir ci-dessous) mais aussi sur le site de la Clarencière. Sur ce dernier\, il vous est possible de réserver votre siège.\n*Le théâtre est dans une rue pleine de cafés qui vous permettront de patienter jusqu’à l’ouverture des portes \nCe 26 février 2026\, 20h\nnous avons la chance de recevoir Valentin Thomas sur son ouvrage \nClassé cancérogène\nEnquête sur un processus entravé \nCe livre montre comment les groupes d’experts qui travaillent à établir des preuves de cancérogénicité sont entravés dans leur action. \nEn 2025\, des dizaines de milliers de substances de synthèse sont utilisées dans l’Union européenne. Il y a parmi elles des composés chimiques auxquels les populations sont exposées chaque jour. Très peu d’entre eux ont fait l’objet d’investigation poussée sur leur caractère cancérogène : en matière d’usage et de vente de ces produits\, « innocent jusqu’à preuve du contraire » est le principe moteur des politiques sanitaires.\nDédié à la recherche\, le Centre international de recherche sur le cancer (CIRC) travaille à établir des preuves de cancérogénicité. Cet organisme n’a pas de pouvoir politique formel\, mais lorsqu’il classe un composé comme « cancérogène »\, la légitimité scientifique qu’il a accumulée oblige a minima d’autres institutions à travers le monde à considérer le problème à leur tour. Comme le montre cette enquête conduite pendant plusieurs années\, ces groupes d’experts sont entravés dans leur action : ils ne peuvent structurellement évaluer la quantité de substances en circulation ; leurs méthodes d’analyse occultent des pans entiers d’agents toxiques ; ils sont pris dans des rapports de force entre acteurs scientifiques\, politiques et économiques qui entretiennent des controverses sans fin. Comment prévenir le cancer sans avoir les moyens d’en identifier les causes ? \n?INFOS PRATIQUES : \nDate : 26 février 2026\nHeure : 20h\nOuverture des portes à 19h45 – Fermeture des portes à 20h15\nLieu : Théâtre littéraire de La Clarencière – Rue du Belvédère 20\, 1050 Ixelles\nInscription (préférable) : lesrencontres@pour.press (Mentionnez le nom\, le nombre de participants et le titre de la conférence)\nPrix : libre
URL:https://bruxelles.attac.org/event/classe-cancerogene-enquete-sur-un-processus-entrave-avec-valentin-thomas-2/
LOCATION:Théâtre littéraire de La Clarencière – Rue du Belvédère 20\, 1050 Ixelles
ATTACH;FMTTYPE=image/jpeg:https://bruxelles.attac.org/wp-content/uploads/2025/11/site-web-scaled.jpg
END:VEVENT
END:VCALENDAR