
BEGIN:VCALENDAR
VERSION:2.0
PRODID:-//Attac Bruxelles 2 - ECPv6.15.20//NONSGML v1.0//EN
CALSCALE:GREGORIAN
METHOD:PUBLISH
X-WR-CALNAME:Attac Bruxelles 2
X-ORIGINAL-URL:https://bruxelles.attac.org
X-WR-CALDESC:Évènements pour Attac Bruxelles 2
REFRESH-INTERVAL;VALUE=DURATION:PT1H
X-Robots-Tag:noindex
X-PUBLISHED-TTL:PT1H
BEGIN:VTIMEZONE
TZID:Europe/Paris
BEGIN:DAYLIGHT
TZOFFSETFROM:+0100
TZOFFSETTO:+0200
TZNAME:CEST
DTSTART:20250330T010000
END:DAYLIGHT
BEGIN:STANDARD
TZOFFSETFROM:+0200
TZOFFSETTO:+0100
TZNAME:CET
DTSTART:20251026T010000
END:STANDARD
BEGIN:DAYLIGHT
TZOFFSETFROM:+0100
TZOFFSETTO:+0200
TZNAME:CEST
DTSTART:20260329T010000
END:DAYLIGHT
BEGIN:STANDARD
TZOFFSETFROM:+0200
TZOFFSETTO:+0100
TZNAME:CET
DTSTART:20261025T010000
END:STANDARD
BEGIN:DAYLIGHT
TZOFFSETFROM:+0100
TZOFFSETTO:+0200
TZNAME:CEST
DTSTART:20270328T010000
END:DAYLIGHT
BEGIN:STANDARD
TZOFFSETFROM:+0200
TZOFFSETTO:+0100
TZNAME:CET
DTSTART:20271031T010000
END:STANDARD
END:VTIMEZONE
BEGIN:VEVENT
DTSTART;TZID=Europe/Paris:20260219T193000
DTEND;TZID=Europe/Paris:20260219T213000
DTSTAMP:20260425T190315
CREATED:20251026T160715Z
LAST-MODIFIED:20251026T160715Z
UID:2403-1771529400-1771536600@bruxelles.attac.org
SUMMARY:Les Désirs guerriers de la modernité\, avec Déborah Brosteaux
DESCRIPTION:Ce 19 février 2026\,\nnous avons la chance de recevoir Déborah Brosteaux sur son ouvrage \nLes Désirs guerriers de la modernité\nFace aux guerres dans lesquelles les pays d’Europe sont impliqués\, nous oscillons en permanence entre anesthésie et frénésie. Certaines situations guerrières donnent lieu à un échauffement affectif\, un « regain » d’énergies psychi-ques et sociales\, tandis que d’autres sont à peine nommées\, reléguées au loin. Cette enquête philosophique creuse l’ambivalence de nos rapports à la guerre\, inscrite au coeur de l’histoire sensible de la modernité.\nInspiré des écrits de Walter Benjamin\, de W. G. Sebald ou encore de Klaus Theweleit\, l’ouvrage explore ces affects guerriers à travers le XXe siècle\, et interroge leur héritage : la froideur de la mise à distance\, le déni des ruines après 1945\, le désir d’intensification de l’expérience de soi\, qui mobilise les imaginaires en 1914-1918 et s’engloutit dans les tranchées… voire mute en passions fascistes qui se nourrissent activement de la dévastation.\nDéborah V. Brosteaux prend au sérieux ces désirs\, y compris dans leurs attraits. Et se demande : quelles transformations affectives activer pour résister aux mobilisations guerrières ? \nDéborah V. Brosteaux est chercheuse en philosophie à l’Université Libre de Bruxelles (ULB)\, membre du Centre de Recherche sur l’Expérience de Guerre (CREG\, MSH-ULB) et chercheuse associée au Centre Marc Bloch à Berlin. Elle est également éditrice aux éditions Météores. \n?INFOS PRATIQUES : \nDate : 19 février 2026\nHeure : 19h30\nLieu :La Fleur en papier doré – Rue des Alexiens 55\, 1000 Bruxelles\n(Le lieu dispose d’un bar qui sera ouvert avant\, pendant et après la Rencontre)\nInscription (préférable) : lesrencontres@pour.press (Mentionnez le nom\, le nombre de participants et le titre de la conférence)\nPrix : libre
URL:https://bruxelles.attac.org/event/les-desirs-guerriers-de-la-modernite-avec-deborah-brosteaux/
LOCATION:La Fleur en papier doré – Rue des Alexiens 55\, 1000 Bruxelles
ATTACH;FMTTYPE=image/jpeg:https://bruxelles.attac.org/wp-content/uploads/2025/10/site-web-13-scaled.jpg
END:VEVENT
END:VCALENDAR