
BEGIN:VCALENDAR
VERSION:2.0
PRODID:-//Attac Bruxelles 2 - ECPv6.15.20//NONSGML v1.0//EN
CALSCALE:GREGORIAN
METHOD:PUBLISH
X-ORIGINAL-URL:https://bruxelles.attac.org
X-WR-CALDESC:Évènements pour Attac Bruxelles 2
REFRESH-INTERVAL;VALUE=DURATION:PT1H
X-Robots-Tag:noindex
X-PUBLISHED-TTL:PT1H
BEGIN:VTIMEZONE
TZID:Europe/Paris
BEGIN:DAYLIGHT
TZOFFSETFROM:+0100
TZOFFSETTO:+0200
TZNAME:CEST
DTSTART:20250330T010000
END:DAYLIGHT
BEGIN:STANDARD
TZOFFSETFROM:+0200
TZOFFSETTO:+0100
TZNAME:CET
DTSTART:20251026T010000
END:STANDARD
BEGIN:DAYLIGHT
TZOFFSETFROM:+0100
TZOFFSETTO:+0200
TZNAME:CEST
DTSTART:20260329T010000
END:DAYLIGHT
BEGIN:STANDARD
TZOFFSETFROM:+0200
TZOFFSETTO:+0100
TZNAME:CET
DTSTART:20261025T010000
END:STANDARD
BEGIN:DAYLIGHT
TZOFFSETFROM:+0100
TZOFFSETTO:+0200
TZNAME:CEST
DTSTART:20270328T010000
END:DAYLIGHT
BEGIN:STANDARD
TZOFFSETFROM:+0200
TZOFFSETTO:+0100
TZNAME:CET
DTSTART:20271031T010000
END:STANDARD
END:VTIMEZONE
BEGIN:VEVENT
DTSTART;TZID=Europe/Paris:20260126T193000
DTEND;TZID=Europe/Paris:20260126T213000
DTSTAMP:20260425T191256
CREATED:20251019T102529Z
LAST-MODIFIED:20251019T102630Z
UID:2391-1769455800-1769463000@bruxelles.attac.org
SUMMARY:La civilisation judéo-chrétienne – Anatomie d’une imposture\, avec Sophie Bessis
DESCRIPTION:Ce 26 janvier 2026\,\nnous avons la chance de recevoir Sophie Bessis sur son ouvrage \nLa civilisation judéo-chrétienne\nAnatomie d’une imposture \nDepuis quarante ans\, le concept de « civilisation judéochrétienne » domine les discours politiques et médiatiques en Occident\, présenté comme le socle culturel de l’Europe et de l’Amérique du Nord. Mais que cache cette expression devenue une référence hégémonique ? \nRécupéré par des acteurs variés – États\, mouvements politiques ou nationalismes – ce concept est utilisé de toutes parts pour réécrire l’histoire\, servant en Europe à occulter deux millénaires de persécutions antisémites\, à nier l’apport de l’Orient dans son passé et à exclure l’islam de ses références culturelles. Le sionisme puis l’État d’Israël à partir de sa création ont eu besoin d’affirmer leur ancrage exclusif à l’Occident\, se proclamant aujourd’hui comme le « bastion avancé de la civilisation judéochrétienne » face à « l’ennemi arabo-musulman »\, tandis que les nationalismes arabes ont vu dans cette expression un instrument commode pour nier la dimension juive de l’histoire de leurs propres pays. \nSophie Bessis dévoile comment ce binôme\, loin d’être neutre\, est utilisé partout pour rendre impossibles des convergences culturelles et politiques qui pourraient être autant de chemins vers la paix. \n?INFOS PRATIQUES : \nDate : 26 janvier 2026\nHeure : 19h30\nLieu : À venir\nInscription (préférable) : lesrencontres@pour.press (Mentionnez le nom\, le nombre de participants et le titre de la conférence)\nPrix : libre
URL:https://bruxelles.attac.org/event/la-civilisation-judeo-chretienne-anatomie-dune-imposture-avec-sophie-bessis/
LOCATION:À venir
ATTACH;FMTTYPE=image/jpeg:https://bruxelles.attac.org/wp-content/uploads/2025/10/Site-web-10-scaled.jpg
END:VEVENT
END:VCALENDAR