
BEGIN:VCALENDAR
VERSION:2.0
PRODID:-//Attac Bruxelles 2 - ECPv6.15.20//NONSGML v1.0//EN
CALSCALE:GREGORIAN
METHOD:PUBLISH
X-ORIGINAL-URL:https://bruxelles.attac.org
X-WR-CALDESC:Évènements pour Attac Bruxelles 2
REFRESH-INTERVAL;VALUE=DURATION:PT1H
X-Robots-Tag:noindex
X-PUBLISHED-TTL:PT1H
BEGIN:VTIMEZONE
TZID:Europe/Paris
BEGIN:DAYLIGHT
TZOFFSETFROM:+0100
TZOFFSETTO:+0200
TZNAME:CEST
DTSTART:20240331T010000
END:DAYLIGHT
BEGIN:STANDARD
TZOFFSETFROM:+0200
TZOFFSETTO:+0100
TZNAME:CET
DTSTART:20241027T010000
END:STANDARD
BEGIN:DAYLIGHT
TZOFFSETFROM:+0100
TZOFFSETTO:+0200
TZNAME:CEST
DTSTART:20250330T010000
END:DAYLIGHT
BEGIN:STANDARD
TZOFFSETFROM:+0200
TZOFFSETTO:+0100
TZNAME:CET
DTSTART:20251026T010000
END:STANDARD
BEGIN:DAYLIGHT
TZOFFSETFROM:+0100
TZOFFSETTO:+0200
TZNAME:CEST
DTSTART:20260329T010000
END:DAYLIGHT
BEGIN:STANDARD
TZOFFSETFROM:+0200
TZOFFSETTO:+0100
TZNAME:CET
DTSTART:20261025T010000
END:STANDARD
END:VTIMEZONE
BEGIN:VEVENT
DTSTART;TZID=Europe/Paris:20251217T193000
DTEND;TZID=Europe/Paris:20251217T213000
DTSTAMP:20260425T221840
CREATED:20251019T100558Z
LAST-MODIFIED:20251019T101444Z
UID:2381-1765999800-1766007000@bruxelles.attac.org
SUMMARY:Quand les travailleurs sabotaient\, avec Dominique Pinsolle
DESCRIPTION:Ce 17 décembre 2025\,\nnous avons la chance de recevoir Dominique Pinsolle sur son ouvrage \nQuand les travailleurs sabotaient \n“L’histoire du monde du travail\, dont les médias et le monde politique négligent\, méprisent et effacent la réalité historique et sociologique\, n’a pas fini de nous donner des leçons sur la culture de la résistance. \n« Quelle que soit la manière dont on qualifie la littérature\, les discours\, les représentations et les pratiques liés au sabotage en France et aux États-Unis jusqu’à la guerre\, il n’en demeure pas moins que le phénomène n’a aucun équivalent ailleurs dans le monde\, ni dans sa nature\, ni dans son ampleur. Toutes les forces syndicalistes révolutionnaires ont été réceptives au concept\, mais seuls les militants français et les Wobblies états­uniens ont produit une doctrine originale du sabotage qui a rencontré un écho international – comme en témoigne la diffusion internationale du terme français et du symbole du chat noir. En outre\, malgré leurs particularités respectives\, les deux formes de cette tactique qui se développent de part et d’autre de l’Atlantique sont liées et peuvent donc être appréhendées comme les deux étapes d’une même histoire. » \n\n\n\nL’urgence climatique et sociale a remis au goût du jour l’activisme radical\, dont le recours au sabotage. Loin de se réduire à une dégradation matérielle\, cette pratique a soulevé d’immenses espoirs dans les rangs syndicalistes révolutionnaires de la « Belle Époque »\, au point d’être théorisée et mise en œuvre de manière collective. De la Confédération générale du travail (CGT) en France aux Industrial Workers of the World (IWW) aux États-­Unis\, le sabotage apparaissait alors comme une tactique légitime\, imparable\, et contre laquelle patrons et gouvernants ne pouvaient rien. Cette expérience syndicale éclaire la portée et les limites d’un moyen d’action marginalisé\, objet de nombreux fantasmes.” \nAgone *\nLien vers la page du livre : https://agone.org/livre/quand-les-travailleurs-sabotaient/ \n  \n\n\n\n?INFOS PRATIQUES : \nDate : 17 décembre 2025\nHeure : 19h30\nLieu : À venir\nInscription (préférable) : lesrencontres@pour.press (Mentionnez le nom\, le nombre de participants et le titre de la conférence)\nPrix : libre \n\n* Issues d’une revue du même nom\, née à Marseille en 1990\, les éditions Agone se sont construites sur une ligne éditoriale soucieuse des luttes de notre présent et soumise aux exigences du savoir. Au moment où le marché du livre se caractérise par un emballement productiviste qui pousse les éditeurs\, pour imposer leurs marques\, à publier toujours davantage d’ouvrages de moins en moins maîtrisés et dont la durée de vie est toujours plus courte\, nous avons opté pour la lenteur d’une politique de fonds. \nAussi nous démarquons-nous de la logique du marketing\, qui prétend financer la création sur la base des nécessités du compromis : notre pari fut de ne jamais publier un livre pour le seul motif de sa rentabilité\, de ne pas choisir un auteur sur le seul critère de sa notoriété et de ne pas traiter un sujet en vertu de sa seule actualité. \nCe projet éditorial répond à un projet politique : proposer des livres qui fournissent au plus grand nombre des outils pour comprendre le monde dans lequel nous vivons.
URL:https://bruxelles.attac.org/event/quand-les-travailleurs-sabotaient-avec-dominique-pinsolle/
LOCATION:Lieu à venir
ATTACH;FMTTYPE=image/jpeg:https://bruxelles.attac.org/wp-content/uploads/2025/10/site-web-6.jpg
END:VEVENT
END:VCALENDAR